BEGIN:VCALENDAR
VERSION:2.0
PRODID:-//Merredin and Districts Farm Improvement Group - ECPv5.4.0//NONSGML v1.0//EN
CALSCALE:GREGORIAN
METHOD:PUBLISH
X-WR-CALNAME:Merredin and Districts Farm Improvement Group
X-ORIGINAL-URL:https://madfig.com.au
X-WR-CALDESC:Events for Merredin and Districts Farm Improvement Group
BEGIN:VTIMEZONE
TZID:UTC
BEGIN:STANDARD
TZOFFSETFROM:+0000
TZOFFSETTO:+0000
TZNAME:UTC
DTSTART:20200101T000000
END:STANDARD
END:VTIMEZONE
BEGIN:VEVENT
DTSTART;TZID=UTC:20200612T080000
DTEND;TZID=UTC:20200612T120000
DTSTAMP:20210301T164042
CREATED:20200208T052617Z
LAST-MODIFIED:20200208T052617Z
UID:210-1591948800-1591963200@madfig.com.au
SUMMARY:Post Seeding Walk
DESCRIPTION:
URL:https://madfig.com.au/event/post-seeding-walk/
ATTACH;FMTTYPE=image/jpeg:https://madfig.com.au/wp-content/uploads/2020/01/img_5229.jpg
END:VEVENT
END:VCALENDAR