BEGIN:VCALENDAR
VERSION:2.0
PRODID:-//Merredin and Districts Farm Improvement Group - ECPv5.4.0//NONSGML v1.0//EN
CALSCALE:GREGORIAN
METHOD:PUBLISH
X-WR-CALNAME:Merredin and Districts Farm Improvement Group
X-ORIGINAL-URL:https://madfig.com.au
X-WR-CALDESC:Events for Merredin and Districts Farm Improvement Group
BEGIN:VTIMEZONE
TZID:UTC
BEGIN:STANDARD
TZOFFSETFROM:+0000
TZOFFSETTO:+0000
TZNAME:UTC
DTSTART:20200101T000000
END:STANDARD
END:VTIMEZONE
BEGIN:VEVENT
DTSTART;VALUE=DATE:20200917
DTEND;VALUE=DATE:20200918
DTSTAMP:20210301T164116
CREATED:20200208T052751Z
LAST-MODIFIED:20200208T052751Z
UID:212-1600300800-1600387199@madfig.com.au
SUMMARY:Spring Field Day
DESCRIPTION:Come and join us as we explore the local trials around the district\, both farmer and DPIRD.
URL:https://madfig.com.au/event/spring-field-day/
ATTACH;FMTTYPE=image/jpeg:https://madfig.com.au/wp-content/uploads/2020/01/img_0088.jpg
END:VEVENT
END:VCALENDAR