BEGIN:VCALENDAR
VERSION:2.0
PRODID:-//Merredin and Districts Farm Improvement Group - ECPv5.4.0//NONSGML v1.0//EN
CALSCALE:GREGORIAN
METHOD:PUBLISH
X-WR-CALNAME:Merredin and Districts Farm Improvement Group
X-ORIGINAL-URL:https://madfig.com.au
X-WR-CALDESC:Events for Merredin and Districts Farm Improvement Group
BEGIN:VTIMEZONE
TZID:UTC
BEGIN:STANDARD
TZOFFSETFROM:+0000
TZOFFSETTO:+0000
TZNAME:UTC
DTSTART:20210101T000000
END:STANDARD
END:VTIMEZONE
BEGIN:VEVENT
DTSTART;TZID=UTC:20210302T133000
DTEND;TZID=UTC:20210302T173000
DTSTAMP:20210301T163810
CREATED:20210223T050238Z
LAST-MODIFIED:20210223T050240Z
UID:938-1614691800-1614706200@madfig.com.au
SUMMARY:Pre Seeding Frost Workshop
DESCRIPTION:Farmers and advisors are invited to a handson workshop to hear the latest frost researchfindings and strategies to minimise the impact offrost on profit. Farmers attending have the opportunityto develop a personal frost management plan with inputand guidance from the experts in the room.
URL:https://madfig.com.au/event/pre-seeding-frost-workshop/
LOCATION:Bruce Rock District Club\, 52 Dunstill Street\, Bruce Rock
ORGANIZER;CN="MADFIG":MAILTO:admin@madfig.com.au
END:VEVENT
BEGIN:VEVENT
DTSTART;TZID=UTC:20210312T090000
DTEND;TZID=UTC:20210312T170000
DTSTAMP:20210301T163810
CREATED:20210223T050958Z
LAST-MODIFIED:20210223T051001Z
UID:944-1615539600-1615568400@madfig.com.au
SUMMARY:GRDC Kwinana East Research Updates- Merredin
DESCRIPTION:
URL:https://madfig.com.au/event/grdc-kwinana-east-research-updates-merredin/
LOCATION:Cummins Theatre\, Merredin
END:VEVENT
END:VCALENDAR